Workbook

Sheet 　活用計画書・活用報告書　提出シート
B1: 公財〉日本自動車教育振興財団 行
B2: ※以下作成の上、Ｅmailに添付してご提出ください
B3: 〔Email：gijutu@jaef.or.jp〕
B4: ―令和6年度 教材提供対象—
B5: 自動車技術教育用教材 活用計画書・活用報告書
B6: ※黄色セルは選択、灰色セルは入力してください
B7: 分類番号 | E7: =VLOOKUP(E9,確認シート!B4:C133,2,FALSE) -> #N/A | G7: ←学校名を選択すると自動表示されます
B9: 学校名
B10: 学校長名 | M10: 学校長 確認欄
B11: 所在地 | E11: 郵便番号 | H11: 電話
E12: 住所
B13: 連絡先 | E13: 計画書 作成者 | F13: 名前 | I13: 担当学科名 | L13: 電話
L14: FAX
F15: メールアドレス
B17: 支援提供教材名 | F17: ←学校名を選択すると自動表示されます
B18: 教材No. | E18: =VLOOKUP(E9,確認シート!B4:D133,3,FALSE) -> #N/A | F18: =VLOOKUP(E9,確認シート!B4:F133,5,FALSE) -> #N/A | G18: =VLOOKUP(G9,確認シート!D4:F94,3,FALSE) -> #N/A | H18: =VLOOKUP(E9,確認シート!B4:G133,6,FALSE) -> #N/A | I18: =VLOOKUP(I9,確認シート!F4:H94,3,FALSE) -> #N/A | J18: =VLOOKUP(J9,確認シート!G4:I94,3,FALSE) -> #N/A | K18: =VLOOKUP(K9,確認シート!H4:J94,3,FALSE) -> #N/A | L18: =VLOOKUP(L9,確認シート!I4:K94,3,FALSE) -> #N/A | M18: =VLOOKUP(M9,確認シート!J4:L94,3,FALSE) -> #N/A | N18: =VLOOKUP(N9,確認シート!K4:M94,3,FALSE) -> #N/A | O18: =VLOOKUP(O9,確認シート!L4:N94,3,FALSE) -> #N/A | P18: =VLOOKUP(P9,確認シート!M4:O94,3,FALSE) -> #N/A
B20: １．活用計画書 | H20: 記入日 令和４年 月 日 | I20: 令和 7年 月 日
B21: ※提出期限：令和7年5月26日（月）
B22: ※同一シートで２回報告（活用計画書・活用報告書）いただきますので、本シートはお手元に保存してください
B23: ■教材活用生徒数見込 | G23: 人
B24: ■提供教材をどのように活用（対象の学年、科目、活用方法など）する予定か、期待する効果も含め記載してください
B27: ２．活用報告書 | H27: 記入日：令和４年 月 日 | I27: 令和 年 月 日
B28: ※提出期限：令和8年2月24日（火）
B29: ※活用（保管）状況につき、写真を撮り、写真添付シートに添付してください（３枚程度）
B30: ■教材活用生徒数結果 | G30: 人
B31: ■年度終了後の教育効果
B32: ■上記の教育効果を選択した理由を記載してください
B34: ■（アンケート①）教材を活用してクルマに興味関心を持った生徒は何人くらい増えましたか
B36: ■（アンケート②）教材を活用して自動車関連に就職または進学したいと思った生徒は何人くらい増えましたか
B38: ■その他、意見、要望など自由に記載してください

Sheet 活用報告書・写真添付シート
B2: 写真添付シート（活用報告書作成時に使用） | G2: 学校名 | H2: =' 活用計画書・活用報告書 提出シート'!E9 -> 0
B3: ※活用（保管）状況につき、写真を撮り、本シートに添付ください

Sheet 確認シート
A2: 都道県 | B2: 学校名 | C2: 分類番号 | D2: 決定機材
D3: 教材No. | E3: 発注金額 | F3: 教材区分 | G3: 教材名 | H3: 提供教材
A4: 青森県 | B4: 青森県立弘前工業高等学校 | C4: K24-001 | D4: 14-A | F4: 初級教材 | G4: 分解組立用エンジン（汎用126cc） 4台 A | H4: エンジン４台（エンジベース・交換部品・整備マニュアル付） ＋ 分解組立ビデオ（㏋掲載）
A5: 青森県 | B5: 青森県立八戸工業高等学校 | C5: K24-002 | D5: 14-A | F5: 初級教材 | G5: 分解組立用エンジン（汎用126cc） 4台 A | H5: エンジン４台（エンジベース・交換部品・整備マニュアル付） ＋ 分解組立ビデオ（㏋掲載）
A6: 青森県 | B6: 青森県立むつ工業高等学校 | C6: K24-003 | D6: 14-A | F6: 初級教材 | G6: 分解組立用エンジン（汎用126cc） 4台 A | H6: エンジン４台（エンジベース・交換部品・整備マニュアル付） ＋ 分解組立ビデオ（㏋掲載）
A7: 青森県 | B7: 弘前東高等学校 | C7: K24-004 | D7: 29-A | F7: 上級教材 | G7: EVミニカート・キット Aコース | H7: 基本セット（本体１台）
A8: 青森県 | B8: 八戸工業大学第一高等学校 | C8: K24-005 | D8: 15-D | F8: 初級教材 | G8: 分解組立用電子制御エンジン 1,300cc 2台 Ｄ | H8: エンジン（1,300cc) ２台 ＋ スタンド2台 ＋ 整備マニュアル ＋ 解説DVD付
A9: 岩手県 | B9: 岩手県立盛岡工業高等学校 | C9: K24-006 | D9: 3 | F9: 視聴覚教材 | G9: CD教材①（ハイブリッド自動車と充電装置） | H9: ＣＤ×３
A10: 岩手県 | B10: 岩手県立盛岡工業高等学校 定時制 | C10: K24-007 | D10: 4 | F10: 視聴覚教材 | G10: CD教材②（自動車の基礎とエンジンの作動） | H10: ＣＤ×10
A11: 岩手県 | B11: 岩手県立黒沢尻工業高等学校 | C11: K24-008 | D11: 16 | F11: 初級教材 | G11: 実習用工具セット | H11: ４セット
A12: 岩手県 | B12: 岩手県立水沢工業高等学校 | C12: K24-009 | D12: 8 | F12: 視聴覚教材 | G12: 4気筒4サイクル・エンジン 模型 | H12: 模型×１
A13: 岩手県 | B13: 岩手県立大船渡東高等学校 | C13: K24-010 | D13: 14-C | F13: 初級教材 | G13: 分解組立用エンジン（汎用126cc） ３台 C | H13: エンジン３台（エンジンベース・交換部品・整備マニュアル付）+ 分解組立専用工具×３ ＋ 分解組立ビデオ（㏋掲載）
A14: 岩手県 | B14: 岩手県立北桜高等学校(工業校舎） | C14: K24-011 | D14: 15-D | F14: 初級教材 | G14: 分解組立用電子制御エンジン 1,300cc ４台 Ｄ | H14: エンジン（1,300cc) ２台 ＋ スタンド2台 ＋ 整備マニュアル ＋ 解説DVD付
A15: 宮城県 | B15: 宮城県村田高等学校 | C15: K24-012 | D15: 14-A | F15: 初級教材 | G15: 分解組立用エンジン（汎用126cc） 4台 A | H15: エンジン４台（エンジベース・交換部品・整備マニュアル付） ＋ 分解組立ビデオ（㏋掲載）
A16: 宮城県 | B16: 宮城県登米総合産業高等学校 | C16: K24-013 | D16: 24 | F16: 中級教材 | G16: ビデオスコープ | H16: １台
A17: 宮城県 | B17: 宮城県黒川高等学校 | C17: K24-014 | D17: 16 | F17: 初級教材 | G17: 実習用工具セット | H17: ４セット
A18: 宮城県 | B18: 宮城県加美農業高等学校 | C18: K24-015 | D18: 23 | F18: 中級教材 | G18: 燃料電池システム（エコラン大会用） | H18: １セット
A19: 宮城県 | B19: 宮城県石巻工業高等学校 | C19: K24-016 | D19: 16 | F19: 初級教材 | G19: 実習用工具セット | H19: ４セット
A20: 宮城県 | B20: 宮城県古川工業高等学校 定時制 | C20: K24-017 | D20: 14-C | F20: 初級教材 | G20: 分解組立用エンジン（汎用126cc） ３台 C | H20: エンジン３台（エンジンベース・交換部品・整備マニュアル付）+ 分解組立専用工具×３ ＋ 分解組立ビデオ（㏋掲載）
A21: 宮城県 | B21: 仙台市立仙台工業高等学校 | C21: K24-018 | D21: 29-A | F21: 上級教材 | G21: EVミニカート・キット Aコース | H21: 基本セット（本体１台）
A22: 福島県 | B22: 福島県立福島工業高等学校 | C22: K24-019 | D22: 14-B | F22: 初級教材 | G22: 分解組立用エンジン（汎用126cc）３台 B | H22: エンジン３台（エンジンベース・交換部品・整備マニュアル付）+ 修理工具一式 ＋ 分解組立ビデオ（㏋掲載）
A23: 福島県 | B23: 福島県立二本松実業高等学校 | C23: K24-020 | D23: 29-A | F23: 上級教材 | G23: EVミニカート・キット Aコース | H23: 基本セット（本体１台）
A24: 福島県 | B24: 福島県立郡山北工業高等学校 | C24: K24-021 | D24: 29-A | F24: 上級教材 | G24: EVミニカート・キット Aコース | H24: 基本セット（本体１台）
A25: 福島県 | B25: 福島県立清陵情報高等学校 | C25: K24-022 | D25: 14-C | F25: 初級教材 | G25: 分解組立用エンジン（汎用126cc） ３台 C | H25: エンジン３台（エンジンベース・交換部品・整備マニュアル付）+ 分解組立専用工具×３ ＋ 分解組立ビデオ（㏋掲載）
A26: 福島県 | B26: 福島県立白河実業高等学校 | C26: K24-023 | D26: 4 | F26: 視聴覚教材 | G26: CD教材②（自動車の基礎とエンジンの作動） | H26: ＣＤ×10
A27: 福島県 | B27: 福島県立白河実業高等学校 塙校舎 | C27: K24-024 | D27: 29-A | F27: 上級教材 | G27: EVミニカート・キット Aコース | H27: 基本セット（本体１台）
A28: 福島県 | B28: 福島県立会津工業高等学校 | C28: K24-025 | D28: 14-A | F28: 初級教材 | G28: 分解組立用エンジン（汎用126cc） 4台 A | H28: エンジン４台（エンジベース・交換部品・整備マニュアル付） ＋ 分解組立ビデオ（㏋掲載）
A29: 福島県 | B29: 福島県立喜多方桐桜高等学校 | C29: K24-026 | D29: 18 | F29: 初級教材 | G29: 急速充電器 | H29: １台
A30: 福島県 | B30: 福島県立平工業高等学校 | C30: K24-027 | D30: 14-A | F30: 初級教材 | G30: 分解組立用エンジン（汎用126cc） 4台 A | H30: エンジン４台（エンジベース・交換部品・整備マニュアル付） ＋ 分解組立ビデオ（㏋掲載）
A31: 福島県 | B31: 福島県立小高産業技術高等学校 | C31: K24-028 | D31: 29-A | F31: 上級教材 | G31: EVミニカート・キット Aコース | H31: 基本セット（本体１台）
A32: 茨城県 | B32: 茨城県立高萩清松高等学校 | C32: K24-029 | D32: 2 | F32: 視聴覚教材 | G32: DVD&デジビデオ（自動車のメカニズム） | H32: ＤＶＤ×１ ＣＤ(デジビデオ)×２
A33: 茨城県 | B33: 茨城県立水戸工業高等学校 | C33: K24-030 | D33: 16 | F33: 初級教材 | G33: 実習用工具セット | H33: ４セット
A34: 茨城県 | B34: 茨城県立勝田工業高等学校 | C34: K24-031 | D34: 29-A | F34: 上級教材 | G34: EVミニカート・キット Aコース | H34: 基本セット（本体１台） | J34: 0名
A35: 茨城県 | B35: 茨城県立玉造工業高等学校 | C35: K24-032 | D35: 14-A | F35: 初級教材 | G35: 分解組立用エンジン（汎用126cc） 4台 A | H35: エンジン４台（エンジベース・交換部品・整備マニュアル付） ＋ 分解組立ビデオ（㏋掲載） | J35: 1～5名
A36: 茨城県 | B36: 茨城県立土浦工業高等学校 | C36: K24-033 | D36: 14-C | F36: 初級教材 | G36: 分解組立用エンジン（汎用126cc） ３台 C | H36: エンジン３台（エンジンベース・交換部品・整備マニュアル付）+ 分解組立専用工具×３ ＋ 分解組立ビデオ（㏋掲載） | J36: 6～10名
A37: 茨城県 | B37: 茨城県立取手第一高等学校 | C37: K24-034 | D37: 14-A | F37: 初級教材 | G37: 分解組立用エンジン（汎用126cc） 4台 A | H37: エンジン４台（エンジベース・交換部品・整備マニュアル付） ＋ 分解組立ビデオ（㏋掲載） | J37: 11～20名
A38: 茨城県 | B38: 茨城県立八千代高等学校 | C38: K24-035 | D38: 29-A | F38: 上級教材 | G38: EVミニカート・キット Aコース | H38: 基本セット（本体１台） | J38: 21名～
A39: 茨城県 | B39: 茨城県立総和工業高等学校 | C39: K24-036 | D39: 14-A | F39: 初級教材 | G39: 分解組立用エンジン（汎用126cc） 4台 A | H39: エンジン４台（エンジベース・交換部品・整備マニュアル付） ＋ 分解組立ビデオ（㏋掲載） | J39: 減った
A40: 静岡県 | B40: 静岡県立伊豆総合高等学校 | C40: K24-037 | D40: 29-A | F40: 上級教材 | G40: EVミニカート・キット Aコース | H40: 基本セット（本体１台）
A41: 静岡県 | B41: 静岡県立御殿場高等学校 | C41: K24-038 | D41: 8 | F41: 視聴覚教材 | G41: 4気筒4サイクル・エンジン 模型 | H41: 模型×１
A42: 静岡県 | B42: 静岡県立沼津工業高等学校 | C42: K24-039 | D42: 29-A | F42: 上級教材 | G42: EVミニカート・キット Aコース | H42: 基本セット（本体１台）
A43: 静岡県 | B43: 静岡県立富岳館高等学校 | C43: K24-040 | D43: 9 | F43: 視聴覚教材 | G43: ハイブリッドシステム説明模型 | H43: 模型×１
A44: 静岡県 | B44: 静岡県立駿河総合高等学校 | C44: K24-041 | D44: 6 | F44: 視聴覚教材 | G44: モーター基礎実験セット（自動車の電気・電子技術） | H44: 実験セット×1回路板×10 ＣＤ×３
A45: 静岡県 | B45: 静岡県立科学技術高等学校 | C45: K24-042 | D45: 23 | F45: 中級教材 | G45: 燃料電池システム（エコラン大会用） | H45: １セット
A46: 静岡県 | B46: 静岡県立科学技術高等学校 定時制 | C46: K24-043 | D46: 29-A | F46: 上級教材 | G46: EVミニカート・キット Aコース | H46: 基本セット（本体１台）
A47: 静岡県 | B47: 静岡県立藤枝北高等学校 | C47: K24-044 | D47: 14-C | F47: 初級教材 | G47: 分解組立用エンジン（汎用126cc） ３台 C | H47: エンジン３台（エンジンベース・交換部品・整備マニュアル付）+ 分解組立専用工具×３ ＋ 分解組立ビデオ（㏋掲載）
A48: 静岡県 | B48: 静岡県立島田工業高等学校 | C48: K24-045 | D48: 23 | F48: 中級教材 | G48: 燃料電池システム（エコラン大会用） | H48: １セット
A49: 静岡県 | B49: 静岡県立掛川工業高等学校 | C49: K24-046 | D49: 14-C | F49: 初級教材 | G49: 分解組立用エンジン（汎用126cc） ３台 C | H49: エンジン３台（エンジンベース・交換部品・整備マニュアル付）+ 分解組立専用工具×３ ＋ 分解組立ビデオ（㏋掲載）
A50: 静岡県 | B50: 静岡県立小笠高等学校 | C50: K24-047 | D50: 20 | F50: 初級教材 | G50: 簡易型エンジンスタンド | H50: ４台
A51: 静岡県 | B51: 静岡県立遠江総合高等学校 | C51: K24-048 | D51: 29-A | F51: 上級教材 | G51: EVミニカート・キット Aコース | H51: 基本セット（本体１台）
A52: 静岡県 | B52: 静岡県立浜松城北工業高等学校 | C52: K24-049 | D52: 15-C | F52: 初級教材 | G52: 分解組立用電子制御エンジン 1,300cc ４台 Ｃ | H52: エンジン（1,300cc）４台 ＋ 整備マニュアル ＋ 解説DVD付
A53: 静岡県 | B53: 静岡県立浜松工業高等学校 | C53: K24-050 | D53: 26-A | F53: 上級教材 | G53: 実車（中古車・ヴィッツ） A | H53: １台（Ａヴィッツ）
A54: 静岡県 | B54: 静岡県立浜松工業高等学校 定時制 | C54: K24-051 | D54: 14-C | F54: 初級教材 | G54: 分解組立用エンジン（汎用126cc） ３台 C | H54: エンジン３台（エンジンベース・交換部品・整備マニュアル付）+ 分解組立専用工具×３ ＋ 分解組立ビデオ（㏋掲載）
A55: 静岡県 | B55: 飛龍高等学校 | C55: K24-052 | D55: 8 | F55: 視聴覚教材 | G55: 4気筒4サイクル・エンジン 模型 | H55: 模型×１
A56: 岐阜県 | B56: 岐阜県立岐南工業高等学校 | C56: K24-053 | D56: 14-A | F56: 初級教材 | G56: 分解組立用エンジン（汎用126cc） 4台 A | H56: エンジン４台（エンジベース・交換部品・整備マニュアル付） ＋ 分解組立ビデオ（㏋掲載）
A57: 岐阜県 | B57: 岐阜県立岐阜工業高等学校 | C57: K24-054 | D57: 8 | F57: 視聴覚教材 | G57: 4気筒4サイクル・エンジン 模型 | H57: 模型×１
A58: 岐阜県 | B58: 岐阜県立岐阜工業高等学校 定時制 | C58: K24-055 | D58: 21 | F58: 中級教材 | G58: トレーニングサーキット | H58: １台、生徒用実験ノート、講師用解説書付
A59: 岐阜県 | B59: 岐阜県立大垣工業高等学校 | C59: K24-056 | D59: 1 | F59: 視聴覚教材 | G59: 自動車の基礎・電気（オンデマンド配信） | H59: ＤＶＤ×10
A60: 岐阜県 | B60: 岐阜県立多治見工業高等学校 | C60: K24-057 | D60: 29-A | F60: 上級教材 | G60: EVミニカート・キット Aコース | H60: 基本セット（本体１台）
A61: 岐阜県 | B61: 岐阜県立中津川工業高等学校 | C61: K24-058 | D61: 29-A | F61: 上級教材 | G61: EVミニカート・キット Aコース | H61: 基本セット（本体１台）
A62: 岐阜県 | B62: 岐阜県立高山工業高等学校 | C62: K24-059 | D62: 18 | F62: 初級教材 | G62: 急速充電器 | H62: １台
A63: 岐阜県 | B63: 関市立関商工高等学校 | C63: K24-060 | D63: 14-A | F63: 初級教材 | G63: 分解組立用エンジン（汎用126cc） 4台 A | H63: エンジン４台（エンジベース・交換部品・整備マニュアル付） ＋ 分解組立ビデオ（㏋掲載）
A64: 岐阜県 | B64: 岐阜第一高等学校 | C64: K24-061 | D64: 28 | F64: 上級教材 | G64: スキャンツール（外部故障診断装置） | H64: １台
A65: 愛知県 | B65: 愛知県立愛知総合工科高等学校 | C65: K24-062 | D65: 1 | F65: 視聴覚教材 | G65: 自動車の基礎・電気（オンデマンド配信） | H65: ＤＶＤ×10
A66: 愛知県 | B66: 愛知県立名古屋工科高等学校 | C66: K24-063 | D66: 29-A | F66: 上級教材 | G66: EVミニカート・キット Aコース | H66: 基本セット（本体１台）
A67: 愛知県 | B67: 愛知県立瀬戸工科高等学校 | C67: K24-064 | D67: 29-A | F67: 上級教材 | G67: EVミニカート・キット Aコース | H67: 基本セット（本体１台）
A68: 愛知県 | B68: 愛知県立一宮工科高等学校 | C68: K24-065 | D68: 14-A | F68: 初級教材 | G68: 分解組立用エンジン（汎用126cc） 4台 A | H68: エンジン４台（エンジベース・交換部品・整備マニュアル付） ＋ 分解組立ビデオ（㏋掲載）
A69: 愛知県 | B69: 愛知県立一宮起工科高等学校 | C69: K24-066 | D69: 14-A | F69: 初級教材 | G69: 分解組立用エンジン（汎用126cc） 4台 A | H69: エンジン４台（エンジベース・交換部品・整備マニュアル付） ＋ 分解組立ビデオ（㏋掲載）
A70: 愛知県 | B70: 愛知県立愛西工科高等学校 | C70: K24-067 | D70: 29-A | F70: 上級教材 | G70: EVミニカート・キット Aコース | H70: 基本セット（本体１台）
A71: 愛知県 | B71: 愛知県立豊田工科高等学校 | C71: K24-068 | D71: 28 | F71: 上級教材 | G71: スキャンツール（外部故障診断装置） | H71: １台
A72: 愛知県 | B72: 愛知県立岡崎工科高等学校 | C72: K24-069 | D72: 29-B | F72: 上級教材 | G72: EVミニカート・キット Bコース | H72: 基本セット（本体１台）＋ブラシレスモータ＆インバータキット（３セット）
A73: 愛知県 | B73: 愛知県立岡崎工科高等学校 定時制 | C73: K24-070 | D73: 14-C | F73: 初級教材 | G73: 分解組立用エンジン（汎用126cc） ３台 C | H73: エンジン３台（エンジンベース・交換部品・整備マニュアル付）+ 分解組立専用工具×３ ＋ 分解組立ビデオ（㏋掲載）
A74: 愛知県 | B74: 愛知県立刈谷工科高等学校 | C74: K24-071 | D74: 29-B | F74: 上級教材 | G74: EVミニカート・キット Bコース | H74: 基本セット（本体１台）＋ブラシレスモータ＆インバータキット（３セット）
A75: 愛知県 | B75: 愛知県立豊橋工科高等学校 | C75: K24-072 | D75: 29-A | F75: 上級教材 | G75: EVミニカート・キット Aコース | H75: 基本セット（本体１台）
A76: 愛知県 | B76: 愛知県立豊橋工科高等学校 定時制 | C76: K24-073 | D76: 18 | F76: 初級教材 | G76: 急速充電器 | H76: １台
A77: 愛知県 | B77: 愛知県立豊川工科高等学校 | C77: K24-074 | D77: 29-A | F77: 上級教材 | G77: EVミニカート・キット Aコース | H77: 基本セット（本体１台）
A78: 愛知県 | B78: 名古屋市立工業高等学校 | C78: K24-075 | D78: 9 | F78: 視聴覚教材 | G78: ハイブリッドシステム説明模型 | H78: 模型×１
A79: 愛知県 | B79: 名古屋たちばな高等学校 | C79: K24-076 | D79: 14-A | F79: 初級教材 | G79: 分解組立用エンジン（汎用126cc） 4台 A | H79: エンジン４台（エンジベース・交換部品・整備マニュアル付） ＋ 分解組立ビデオ（㏋掲載）
A80: 愛知県 | B80: 名古屋工業高等学校 | C80: K24-077 | D80: 29-A | F80: 上級教材 | G80: EVミニカート・キット Aコース | H80: 基本セット（本体１台）
A81: 愛知県 | B81: 中部大学第一高等学校 | C81: K24-078 | D81: 29-A | F81: 上級教材 | G81: EVミニカート・キット Aコース | H81: 基本セット（本体１台）
A82: 三重県 | B82: 三重県立四日市工業高等学校 | C82: K24-079 | D82: 29-A | F82: 上級教材 | G82: EVミニカート・キット Aコース | H82: 基本セット（本体１台）
A83: 三重県 | B83: 三重県立四日市工業高等学校 定時制 | C83: K24-080 | D83: 26-A | F83: 上級教材 | G83: 実車（中古車・ヴィッツ） A | H83: １台（Ａヴィッツ）
A84: 三重県 | B84: 三重県立四日市中央工業高等学校 | C84: K24-081 | D84: 11 | F84: 視聴覚教材 | G84: 模型で学ぶセンサー技術 (自動走行) | H84: 模型８セット×２
A85: 三重県 | B85: 三重県立津工業高等学校 | C85: K24-082 | D85: 14-A | F85: 初級教材 | G85: 分解組立用エンジン（汎用126cc） 4台 A | H85: エンジン４台（エンジベース・交換部品・整備マニュアル付） ＋ 分解組立ビデオ（㏋掲載）
A86: 三重県 | B86: 三重県立松阪工業高等学校 | C86: K24-083 | D86: 14-A | F86: 初級教材 | G86: 分解組立用エンジン（汎用126cc） 4台 A | H86: エンジン４台（エンジベース・交換部品・整備マニュアル付） ＋ 分解組立ビデオ（㏋掲載）
A87: 三重県 | B87: 三重県立伊勢工業高等学校 | C87: K24-084 | D87: 6 | F87: 視聴覚教材 | G87: モーター基礎実験セット（自動車の電気・電子技術） | H87: 実験セット×1回路板×10 ＣＤ×３
A88: 三重県 | B88: 三重県立伊賀白鳳高等学校 | C88: K24-085 | D88: 17-C | F88: 初級教材 | G88: 実習用工具トルクレンチ（小✕４） C | H88: 小（10～50㎜） 4本
A89: 三重県 | B89: 三重県立尾鷲高等学校 | C89: K24-086 | D89: 2 | F89: 視聴覚教材 | G89: DVD&デジビデオ（自動車のメカニズム） | H89: ＤＶＤ×１ ＣＤ(デジビデオ)×２
A90: 滋賀県 | B90: 滋賀県立彦根工業高等学校 | C90: K24-087 | D90: 28 | F90: 上級教材 | G90: スキャンツール（外部故障診断装置） | H90: １台
A91: 滋賀県 | B91: 滋賀県立長浜北星高等学校 | C91: K24-088 | D91: 15-B | F91: 初級教材 | G91: 分解組立用電子制御エンジン 660cc ２台 B | H91: エンジン（660cc）２台 ＋ スタンド2台 ＋ 整備マニュアル ＋ 解説DVD付
A92: 滋賀県 | B92: 滋賀県立八幡工業高等学校 | C92: K24-089 | D92: 21 | F92: 中級教材 | G92: トレーニングサーキット | H92: １台、生徒用実験ノート、講師用解説書付
A93: 滋賀県 | B93: 滋賀県立国際情報高等学校 | C93: K24-090 | D93: 26-D | F93: 上級教材 | G93: 実車（中古車・デミオ） Ｄ | H93: １台（Ｄデミオ）
A94: 京都府 | B94: 京都府立田辺高等学校 | C94: K24-091 | D94: 26-A | F94: 上級教材 | G94: 実車（中古車・ヴィッツ） A | H94: １台（Ａヴィッツ）
A95: 京都府 | B95: 京都府立工業高等学校 | C95: K24-092 | D95: 29-B | F95: 上級教材 | G95: EVミニカート・キット Bコース | H95: 基本セット（本体１台）＋ブラシレスモータ＆インバータキット（３セット）
A96: 大阪府 | B96: 大阪府立東淀工業高等学校 | C96: K24-093 | D96: 29-A | F96: 上級教材 | G96: EVミニカート・キット Aコース | H96: 基本セット（本体１台）
A97: 大阪府 | B97: 大阪府立淀川工科高等学校 | C97: K24-094 | D97: 14-A | F97: 初級教材 | G97: 分解組立用エンジン（汎用126cc） 4台 A | H97: エンジン４台（エンジベース・交換部品・整備マニュアル付） ＋ 分解組立ビデオ（㏋掲載）
A98: 大阪府 | B98: 大阪府立都島工業高等学校 | C98: K24-095 | D98: 14-C | F98: 初級教材 | G98: 分解組立用エンジン（汎用126cc） ３台 C | H98: エンジン３台（エンジンベース・交換部品・整備マニュアル付）+ 分解組立専用工具×３ ＋ 分解組立ビデオ（㏋掲載）
A99: 大阪府 | B99: 大阪府立泉尾工業高等学校 | C99: K24-096 | D99: 14-A | F99: 初級教材 | G99: 分解組立用エンジン（汎用126cc） 4台 A | H99: エンジン４台（エンジベース・交換部品・整備マニュアル付） ＋ 分解組立ビデオ（㏋掲載）
A100: 大阪府 | B100: 大阪府立城東工科高等学校 | C100: K24-097 | D100: 8 | F100: 視聴覚教材 | G100: 4気筒4サイクル・エンジン 模型 | H100: 模型×１
A101: 大阪府 | B101: 大阪府立枚岡樟風高等学校 | C101: K24-098 | D101: 14-A | F101: 初級教材 | G101: 分解組立用エンジン（汎用126cc） 4台 A | H101: エンジン４台（エンジベース・交換部品・整備マニュアル付） ＋ 分解組立ビデオ（㏋掲載）
...

Sheet 活用計画書・活用報告書　集約
B2: 分類番号 | C2: 学校名 | D2: 郵便番号 | E2: 担当学科 | F2: 名前 | G2: 電話 | H2: ＦＡＸ | I2: メールアドレス | J2: 教材No. | K2: 学習区分 | L2: 教材名 | M2: 教材活用生徒数見込 | N2: どのように活用するか、期待する教育効果 | O2: 教材活用生徒数結果 | P2: 年度終了後の教育効果 | Q2: 教育効果の理由 | R2: 生徒のクルマへの興味関心 | S2: 自動車関連に就職または進学したい | T2: 自由意見 | U2: 写真
B3: =' 活用計画書・活用報告書 提出シート'!E7 -> #N/A | C3: =' 活用計画書・活用報告書 提出シート'!E9 -> 0 | D3: =' 活用計画書・活用報告書 提出シート'!F11 -> 0 | E3: =' 活用計画書・活用報告書 提出シート'!I14 -> 0 | F3: =' 活用計画書・活用報告書 提出シート'!F14 -> 0 | G3: =' 活用計画書・活用報告書 提出シート'!M13 -> 0 | H3: =' 活用計画書・活用報告書 提出シート'!M14 -> 0 | I3: =' 活用計画書・活用報告書 提出シート'!G15 -> 0 | J3: =' 活用計画書・活用報告書 提出シート'!E18 -> #N/A | K3: =' 活用計画書・活用報告書 提出シート'!F18 -> #N/A | L3: =' 活用計画書・活用報告書 提出シート'!H18 -> #N/A | M3: =' 活用計画書・活用報告書 提出シート'!F23 -> 0 | N3: =' 活用計画書・活用報告書 提出シート'!B25 -> 0 | O3: =' 活用計画書・活用報告書 提出シート'!F30 -> 0 | P3: =' 活用計画書・活用報告書 提出シート'!G31 -> 0 | Q3: =' 活用計画書・活用報告書 提出シート'!B33 -> 0 | R3: =' 活用計画書・活用報告書 提出シート'!B35 -> 0 | S3: =' 活用計画書・活用報告書 提出シート'!B37 -> 0 | T3: =' 活用計画書・活用報告書 提出シート'!B39 -> 0
